BEGIN:VCALENDAR
VERSION:2.0
PRODID:-//Hunter&#039;s Harvest - ECPv6.15.20//NONSGML v1.0//EN
CALSCALE:GREGORIAN
METHOD:PUBLISH
X-WR-CALNAME:Hunter&#039;s Harvest
X-ORIGINAL-URL:https://hunters-harvest.org
X-WR-CALDESC:Events for Hunter&#039;s Harvest
REFRESH-INTERVAL;VALUE=DURATION:PT1H
X-Robots-Tag:noindex
X-PUBLISHED-TTL:PT1H
BEGIN:VTIMEZONE
TZID:America/Chicago
BEGIN:DAYLIGHT
TZOFFSETFROM:-0600
TZOFFSETTO:-0500
TZNAME:CDT
DTSTART:20210314T080000
END:DAYLIGHT
BEGIN:STANDARD
TZOFFSETFROM:-0500
TZOFFSETTO:-0600
TZNAME:CST
DTSTART:20211107T070000
END:STANDARD
BEGIN:DAYLIGHT
TZOFFSETFROM:-0600
TZOFFSETTO:-0500
TZNAME:CDT
DTSTART:20220313T080000
END:DAYLIGHT
BEGIN:STANDARD
TZOFFSETFROM:-0500
TZOFFSETTO:-0600
TZNAME:CST
DTSTART:20221106T070000
END:STANDARD
BEGIN:DAYLIGHT
TZOFFSETFROM:-0600
TZOFFSETTO:-0500
TZNAME:CDT
DTSTART:20230312T080000
END:DAYLIGHT
BEGIN:STANDARD
TZOFFSETFROM:-0500
TZOFFSETTO:-0600
TZNAME:CST
DTSTART:20231105T070000
END:STANDARD
END:VTIMEZONE
BEGIN:VEVENT
DTSTART;VALUE=DATE:20221201
DTEND;VALUE=DATE:20221202
DTSTAMP:20260423T095933
CREATED:20220518T184934Z
LAST-MODIFIED:20220622T184957Z
UID:1137-1669852800-1669852800@hunters-harvest.org
SUMMARY:Holiday Meal Drive for Military and First Responders - December (Date TBD)
DESCRIPTION:Date and more details to follow.
URL:https://hunters-harvest.org/event/holiday-season-meal-drive/
END:VEVENT
BEGIN:VEVENT
DTSTART;VALUE=DATE:20221101
DTEND;VALUE=DATE:20221102
DTSTAMP:20260423T095933
CREATED:20220518T190223Z
LAST-MODIFIED:20220622T184132Z
UID:1147-1667260800-1667347199@hunters-harvest.org
SUMMARY:Feeding the Homeless - November (Date TBD)
DESCRIPTION:Date and more information to follow.
URL:https://hunters-harvest.org/event/feeding-the-homeless/
END:VEVENT
BEGIN:VEVENT
DTSTART;VALUE=DATE:20220901
DTEND;VALUE=DATE:20220902
DTSTAMP:20260423T095933
CREATED:20220622T185058Z
LAST-MODIFIED:20220622T185058Z
UID:1222-1661990400-1661990400@hunters-harvest.org
SUMMARY:Game Dinner - September (Date TBD)
DESCRIPTION:Date and more details to follow
URL:https://hunters-harvest.org/event/game-dinner-september-date-tbd/
END:VEVENT
END:VCALENDAR